Workbook

Sheet Expo Arg Citricos a sem 30
C5: Exportacion Argentina de Citricos a sem 30
C7: Cargado Real | G7: Total Cargado (TN)
B9: Meses de Carga | C9: Limon | D9: Pomelo | E9: Mandarina | F9: Naranja | G9: Total
B10: Enero | C10: 34.02 | D10: 0 | E10: 20.8 | F10: 3068.8 | G10: =SUM(C10:F10) -> 3123.62
B11: Febrero | C11: 20.004 | D11: 0 | E11: 8 | F11: 1865.56 | G11: =SUM(C11:F11) -> 1893.564
B12: Marzo | C12: 1737.15 | D12: 13.62 | E12: 301.16 | F12: 3029.48 | G12: =SUM(C12:F12) -> 5081.41
B13: Abril | C13: 13022.53 | D13: 0 | E13: 1613.27 | F13: 1406 | G13: =SUM(C13:F13) -> 16041.8
B14: Mayo | C14: 29170.76 | D14: 80.175 | E14: 7167.3 | F14: 2087.05 | G14: =SUM(C14:F14) -> 38505.285
B15: Junio | C15: 71002.67 | D15: 201.5 | E15: 11253.2 | F15: 5239.85 | G15: =SUM(C15:F15) -> 87697.22
B16: Julio 30/07 | C16: 64941.1 | D16: 106.68 | E16: 7648.93 | F16: 10466.617 | G16: =SUM(C16:F16) -> 83163.327
B17: Total Acum Sem 30 | C17: =SUM(C10:C16) -> 179928.23 | D17: =SUM(D10:D16) -> 401.975 | E17: =SUM(E10:E16) -> 28012.66 | F17: =SUM(F10:F16) -> 27163.357 | G17: =SUM(G10:G16) -> 235506.23
B18: % Sobre el total | C18: =C17/G17 -> 0.76400627 | D18: =D17/G17 -> 0.0017068551 | E18: =E17/G17 -> 0.11894658 | F18: =F17/G17 -> 0.11534029 | G18: =SUM(C18:F18) -> 1
B35: *Información del SENASA ( mercadería certificada)

Sheet Expo Limon Mercados acum sem 30
H2: Destino Exportac.Argentina Limones a: | I2: 30 | J2: 30 de Julio
H3: (en toneladas)
D5: Acumulado a semana 30 | H5: Variación % Año 2021 vs: | K5: Variación en TN Año 2021 vs:
B7: Destinos | C7: 2021 - Acum sem 29 | D7: 2021 - Acum sem 30 | E7: 2020 | F7: 2019 | G7: 2018 | H7: 2020 | I7: 2019 | J7: 2018 | K7: 2020 | L7: 2019 | M7: 2018
B8: Grecia y Balcanes | C8: 14706.564 | D8: 15983.97 | E8: 27123.57 | F8: 26156.13 | G8: 21808.47 | H8: =+D8/E8-1 -> -0.41069815 | I8: =D8/F8-1 -> -0.38890157 | J8: =D8/G8-1 -> -0.26707513 | K8: =D8-E8 -> -11139.6 | L8: =D8-F8 -> -10172.16 | M8: =D8-G8 -> -5824.5
B9: Iberica | C9: 5100.096 | D9: 6179.29 | E9: 31706.87 | F9: 21242.46 | G9: 48567.54 | H9: =+D9/E9-1 -> -0.80511195 | I9: =D9/F9-1 -> -0.70910667 | J9: =D9/G9-1 -> -0.87276914 | K9: =D9-E9 -> -25527.58 | L9: =D9-F9 -> -15063.17 | M9: =D9-G9 -> -42388.25
B10: Italia | C10: 10425.012 | D10: 12081.62 | E10: 19662.2 | F10: 21502.3 | G10: 26398.8 | H10: =+D10/E10-1 -> -0.38554078 | I10: =D10/F10-1 -> -0.43812429 | J10: =D10/G10-1 -> -0.54234208 | K10: =D10-E10 -> -7580.58 | L10: =D10-F10 -> -9420.68 | M10: =D10-G10 -> -14317.18
B11: Norte Europa | C11: 25775.248 | D11: 29879.98 | E11: 44651.78 | F11: 31670.14 | G11: 42325.31 | H11: =+D11/E11-1 -> -0.3308222 | I11: =D11/F11-1 -> -0.056525169 | J11: =D11/G11-1 -> -0.2940399 | K11: =D11-E11 -> -14771.8 | L11: =D11-F11 -> -1790.16 | M11: =D11-G11 -> -12445.33
B12: Sub Total UE | C12: =SUM(C8:C11) -> 56006.92 | D12: =SUM(D8:D11) -> 64124.86 | E12: =SUM(E8:E11) -> 123144.42 | F12: =SUM(F8:F11) -> 100571.03 | G12: =SUM(G8:G11) -> 139100.12 | H12: =+D12/E12-1 -> -0.47927109 | I12: =D12/F12-I13 -> 1.0099248 | J12: =D12/G12-1 -> -0.53900212 | K12: =D12-E12 -> -59019.56 | L12: =D12-F12 -> -36446.17 | M12: =D12-G12 -> -74975.26
B13: Rusia | C13: 26313.276 | D13: 27040.58 | E13: 49089.5 | F13: 41921.29 | G13: 30582.67 | H13: =+D13/E13-1 -> -0.44915756 | I13: =C13/F13-1 -> -0.37231712 | J13: =D13/G13-1 -> -0.11582017 | K13: =D13-E13 -> -22048.92 | L13: =D13-F13 -> -14880.71 | M13: =D13-G13 -> -3542.09
B14: Odessa-Ucrania | C14: 6122.51 | D14: 6586.15 | E14: 9043.27 | F14: 9099.88 | G14: 10854 | H14: =+D14/E14-1 -> -0.27170703 | I14: =D14/F14-1 -> -0.27623771 | J14: =D14/G14-1 -> -0.39320527 | K14: =D14-E14 -> -2457.12 | L14: =D14-F14 -> -2513.73 | M14: =D14-G14 -> -4267.85
B15: Reino Unido | C15: 3916.574 | D15: 3892.57 | E15: 3741.06 | F15: 3464.41 | G15: 5390.3 | H15: =+D15/E15-1 -> 0.040499217 | I15: =D15/F15-1 -> 0.12358814 | J15: =D15/G15-1 -> -0.27785652 | K15: =D15-E15 -> 151.51 | L15: =D15-F15 -> 428.16 | M15: =D15-G15 -> -1497.73
B16: USA | C16: 54213.364 | D16: 57728.68 | E16: 29902.566 | F16: 22634.92 | G16: 5669.99 | H16: =+D16/E16-1 -> 0.9305594 | I16: =D16/F16-1 -> 1.5504256 | J16: =D16/G16-1 -> 9.181443 | K16: =D16-E16 -> 27826.114 | L16: =D16-F16 -> 35093.76 | M16: =D16-G16 -> 52058.69
B17: *Otros Destinos | C17: 19611.289 | D17: 20555.38 | E17: 16272.26 | F17: 19040 | G17: 20823.21 | H17: =+D17/E17-1 -> 0.26321605 | I17: =D17/F17-1 -> 0.079589286 | J17: =D17/G17-1 -> -0.01286209 | K17: =D17-E17 -> 4283.12 | L17: =D17-F17 -> 1515.38 | M17: =D17-G17 -> -267.83
B18: Sub Total | C18: =SUM(C13:C17) -> 110177.01 | D18: =SUM(D13:D17) -> 115803.36 | E18: =SUM(E13:E17) -> 108048.66 | F18: =SUM(F13:F17) -> 96160.5 | G18: =SUM(G13:G17) -> 73320.17 | H18: =+D18/E18-1 -> 0.071770481 | I18: =D18/F18-1 -> 0.20427161 | J18: =D18/G18-1 -> 0.57942023 | K18: =D18-E18 -> 7754.704 | L18: =D18-F18 -> 19642.86 | M18: =D18-G18 -> 42483.19
B19: Total Expo Limon (w 30) | C19: =C12+C18 -> 166183.93 | D19: =D12+D18 -> 179928.22 | E19: =E12+E18 -> 231193.08 | F19: =F12+F18 -> 196731.53 | G19: =G12+G18 -> 212420.29 | H19: =+D19/E19-1 -> -0.22174045 | I19: =D19/F19-1 -> -0.085412389 | J19: =D19/G19-1 -> -0.15296124 | K19: =D19-E19 -> -51264.856 | L19: =D19-F19 -> -16803.31 | M19: =D19-G19 -> -32492.07
B20: Total Exportado Anual | E20: 248044.08 | F20: 233879.3 | G20: 271615.81
A21: Aclaraciones:
A22: *Otros Destinos: incluye Canada, Middle East, Far East, America Sur

Sheet Tn en pallets despa
B2: Toneladas en Pallets Despachadas LIMON acumulado al 01-08-2021
B4: Provincia | C4: Tn a UE | D4: Tn a BRA | E4: Tn a CHL | F4: Tn a CHN | G4: Tn a COL | H4: Tn a KOR | I4: Tn a MEX | J4: Tn a PHL | K4: Tn a USA | L4: Tn A OD | M4: Tn a Rusia | N4: Tn U.K | O4: Odessa-Ucrania | P4: TOTAL
B5: Buenos Aires | C5: 441.13 | P5: =SUM(C5:L5) -> 441.13
B6: Corrientes | J6: 49.6 | P6: =SUM(C6:L6) -> 49.6
B7: Jujuy | C7: 473.77 | F7: 192 | J7: 102.38 | K7: 1536.41 | P7: =SUM(C7:L7) -> 2304.56
B8: Salta | C8: 816.23 | F8: 169.21 | I8: 184.19 | J8: 51.84 | K8: 6943.17 | P8: =SUM(C8:L8) -> 8164.64
B9: Tucuman | C9: 93984.23 | D9: 23.4 | F9: 4496.59 | I9: 1834.34 | K9: 59108.22 | P9: =SUM(C9:M9) -> 159446.78
B10: TOTAL LIMON TN Pallets DESPACHADOS | C10: =SUM(C5:C9) -> 95715.36 | D10: =SUM(D5:D9) -> 23.4 | E10: =SUM(E5:E9) -> 0 | F10: =SUM(F5:F9) -> 4857.8 | G10: =SUM(G5:G9) -> 0 | H10: =SUM(H5:H9) -> 0 | I10: =SUM(I5:I9) -> 2018.53 | J10: =SUM(J5:J9) -> 203.82 | K10: =SUM(K5:K9) -> 67587.8 | L10: 12462.29 | M10: 27040.59 | N10: 3892.57 | O10: 6586.15 | P10: =SUM(C10:O10) -> 220388.31 | Q10: 44409
B11: Total Limon "certificado" | C11: 64124.86 | D11: 23.4 | F11: 5138.79 | I11: 1835.9 | J11: 1095 | K11: 57728.68 | L11: 12462.29 | M11: 27040.58 | N11: 3892.57 | O11: 6586.15 | P11: =SUM(C11:O11) -> 179928.22 | Q11: 44407
B13: Nota: Los valores que figura en rojo son datos obtenidos de la base del SENASA "fruta certificada", ya que al ser paises que no tienen Protocolo con restricciones no figuran en el SITC - Fruta despachada.
B14: *Otros Destinos: incluye Canada, Middle East, Far East, America Sur (se descontó del total de O.D: China, PHL, Mex, Bras)
B19: Toneladas en Pallets Despachadas NARANJA
B21: Provincia | C21: Tn a UE | D21: Tn a BRA | E21: Tn a CHL | F21: Tn a CHN | G21: Tn a COL | H21: Tn a KOR | I21: Tn a MEX | J21: Tn a PHL | K21: Tn a USA | L21: Tn A OD | P21: TOTAL
B22: Buenos Aires | C22: 3321.64 | D22: 358.5 | J22: 4.8 | P22: =SUM(C22:L22) -> 3684.94
B23: Entre Rios | C23: 2032.81 | D23: 116.22 | J23: 15.75 | P23: =SUM(C23:L23) -> 2164.78
B24: Jujuy | C24: 10779.71 | E24: 42 | L24: 24 | P24: =SUM(C24:L24) -> 10845.71
B25: Salta | C25: 288 | P25: =SUM(C25:L25) -> 288
B26: TOTAL NARANJA | C26: =SUM(C22:C25) -> 16422.16 | D26: =SUM(D22:D25) -> 474.72 | E26: =SUM(E22:E25) -> 42 | F26: =SUM(F22:F25) -> 0 | G26: =SUM(G22:G25) -> 0 | H26: =SUM(H22:H25) -> 0 | I26: =SUM(I22:I25) -> 0 | J26: =SUM(J22:J25) -> 20.55 | ... L26: =SUM(L22:L25) -> 24 | P26: =SUM(P22:P25) -> 16983.43
B28: Toneladas en Pallets Despachadas MANDARINA
B30: Provincia | C30: Tn a UE | D30: Tn a BRA | E30: Tn a CHL | F30: Tn a CHN | G30: Tn a COL | H30: Tn a KOR | I30: Tn a MEX | J30: Tn a PHL | K30: Tn a USA | L30: Tn A OD | P30: TOTAL
B31: Corrientes | J31: 2233.46 | P31: =SUM(C31:L31) -> 2233.46
B32: Entre Rios | C32: 548.3 | J32: 5408.47 | P32: =SUM(C32:L32) -> 5956.77
B33: Misiones | J33: 112 | P33: =SUM(C33:L33) -> 112
B34: TOTAL MANDARINA | C34: =SUM(C31:C33) -> 548.3 | D34: =SUM(D31:D33) -> 0 | E34: =SUM(E31:E33) -> 0 | F34: =SUM(F31:F33) -> 0 | G34: =SUM(G31:G33) -> 0 | H34: =SUM(H31:H33) -> 0 | I34: =SUM(I31:I33) -> 0 | J34: =SUM(J31:J33) -> 7753.93 | ... L34: =SUM(L31:L33) -> 0 | P34: =SUM(P31:P33) -> 8302.23
B36: TOTAL GENERAL TN DESPACHADAS, LIMON, NARANJA Y MANDARINA | P36: =P10+P26+P34 -> 245673.97
A38: Fuente: Sistema Informatico de Trazabilidad Citricola (SITC)
A39: * Solo figuran mercados con restricciones.

Sheet Cargas RSA y ARG
F5: Total Cargado Limones SUDAFRICA sem 29
B6: Total Cargado Limones Argentina sem 30 | H6: Año 2021 | J6: Año 2020 | Q6: Año 2021 | R6: Año 2021 | S6: Año 2022
H7: Semana 28 | I7: Semana 29 | J7: Semana 29 | Q7: Semana 28 | R7: Semana 29 | S7: Semana 29
B8: Cargas Argentina Acumulado sem 30 | C8: Destinos | D8: Tn | G8: Destinos | H8: Tn | I8: Tn | J8: Tn | Q8: Cajas 15 kilos | R8: Cajas 15 kilos | S8: Cajas 15 kilos
C9: Grecia y Balcanes | D9: ='Expo Limon Mercados acum sem 30'!D8 -> 15983.97 | F9: Cargas de RSA Acumulado Sem 29 | G9: Reino unido | H9: =(Q9*15)/1000 -> 22738.035 | I9: =(R9*15)/1000 -> 24552.78 | J9: =(S9*15)/1000 -> 24913.605 | Q9: 1515869 | R9: 1636852 | S9: 1660907
C10: Iberica | D10: ='Expo Limon Mercados acum sem 30'!D9 -> 6179.29 | G10: Rusia | H10: =(Q10*15)/1000 -> 32180.25 | I10: =(R10*15)/1000 -> 32907.36 | J10: =(S10*15)/1000 -> 27747.405 | Q10: 2145350 | R10: 2193824 | S10: 1849827
C11: Italia | D11: ='Expo Limon Mercados acum sem 30'!D10 -> 12081.62 | G11: Union Europea | H11: =(Q11*15)/1000 -> 104494.05 | I11: =(R11*15)/1000 -> 115130.01 | J11: =(S11*15)/1000 -> 98058.42 | Q11: 6966270 | R11: 7675334 | S11: 6537228
C12: Norte Europa | D12: ='Expo Limon Mercados acum sem 30'!D11 -> 29879.98 | G12: Canadá | H12: =(Q12*15)/1000 -> 15683.94 | I12: =(R12*15)/1000 -> 16199.07 | J12: =(S12*15)/1000 -> 13323.105 | Q12: 1045596 | R12: 1079938 | S12: 888207
C13: Sub Total UE | D13: =SUM(D9:D12) -> 64124.86 | G13: Otros Destinos | H13: =(Q13*15)/1000 -> 126368.52 | I13: =(R13*15)/1000 -> 131883.43 | J13: =(S13*15)/1000 -> 135690.38 | Q13: =112480+177601+6691782+1442705 -> 8424568 | R13: =120600+183763+6929149+1558717 -> 8792229 | S13: =125890+71303+7798068+1050764 -> 9046025
C14: Reino Unido | D14: ='Expo Limon Mercados acum sem 30'!D15 -> 3892.57 | G14: Total | H14: =SUM(H9:H13) -> 301464.8 | I14: =SUM(I9:I13) -> 320672.66 | J14: =SUM(J9:J13) -> 299732.91 | Q14: =SUM(Q9:Q13) -> 20097653 | R14: =SUM(R9:R13) -> 21378177 | S14: =SUM(S9:S13) -> 19982194
C15: Rusia | D15: ='Expo Limon Mercados acum sem 30'!D13 -> 27040.58 | F15: Aclaraciones:
C16: Odessa-Ucrania | D16: ='Expo Limon Mercados acum sem 30'!D14 -> 6586.15 | F16: Otros Destinos RSA incluye: South East Asia, Middle East, Africa and Islands, Asia
C17: USA | D17: ='Expo Limon Mercados acum sem 30'!D16 -> 57728.68
C18: Canadá | D18: 6983.63 | F18: Total Cargado Limones CHILE sem 29
C19: Otros Destinos | D19: ='Expo Limon Mercados acum sem 30'!D17-D18 -> 13571.75 | H19: Año 2021 | J19: Año 2020
C20: Sub Total | D20: =SUM(D14:D19) -> 115803.36 | H20: Semana 28 | I20: Semana 29 | J20: Semana 29
C21: Total | D21: =+D13+D20 -> 179928.22 | G21: Destinos | H21: Tn | I21: Tn | J21: Tn
F22: Cargas de CHILE Acumulado Sem 29 | G22: Norte America | H22: =(Q22*15)/1000 -> 0 | I22: 27779 | J22: 25829
B23: Aclaraciones: | G23: Europa | H23: =(Q23*15)/1000 -> 0 | I23: 2370 | J23: 2872
B24: Otros Destinos: incluye Middle East, Far East, America Sur | G24: Total | H24: =SUM(H22:H23) -> 0 | I24: =SUM(I22:I23) -> 30149 | J24: =SUM(J22:J23) -> 28701

Sheet Comparativo expo RSA y ARG
B2: Exportaciones de ARGENTINA Y RSA a ----- U.E - UK - RUSIA - USA - Otros… W 29
E4: % Arg vs RSA | F4: TN Arg vs RSA
B5: Reino Unido | C5: Argentina | D5: ='Cargas RSA y ARG'!D14 -> 3892.57 | E5: =D5/D6-1 -> -0.84146113 | F5: =D5-D6 -> -20660.21
C6: RSA | D6: ='Cargas RSA y ARG'!I9 -> 24552.78
B7: Union Europea | C7: Argentina | D7: ='Cargas RSA y ARG'!D13 -> 64124.86 | E7: =D7/D8-1 -> -0.4430222 | F7: =D7-D8 -> -51005.15
C8: RSA | D8: ='Cargas RSA y ARG'!I11 -> 115130.01
B9: Rusia | C9: Argentina | D9: ='Cargas RSA y ARG'!D15 -> 27040.58 | E9: =D9/D10-1 -> -0.1782817 | F9: =D9-D10 -> -5866.78
C10: RSA | D10: ='Cargas RSA y ARG'!I10 -> 32907.36
B11: Canadá | C11: Argentina | D11: ='Cargas RSA y ARG'!D18 -> 6983.63 | E11: =D11/D12-1 -> -0.56888698 | F11: =D11-D12 -> -9215.44
C12: RSA | D12: ='Cargas RSA y ARG'!I12 -> 16199.07
B13: Otros | C13: Argentina | D13: ='Cargas RSA y ARG'!D19 -> 13571.75 | E13: =D13/D14-1 -> -0.89709284 | F13: =D13-D14 -> -118311.68
C14: RSA | D14: ='Cargas RSA y ARG'!I13 -> 131883.43
A16: Aclaraciones:
A17: Otros Destinos Argentina: incluye Middle East, Far East, America Sur

Sheet Resumen Semanal destinos
B3: DESTINO / W | C3: 22 | D3: 23 | E3: 24 | F3: 25 | G3: 26 | H3: 27 | I3: 28 | J3: 29 | K3: 30 | L3: 31 | M3: 32
A4: ARG | B4: USA | C4: 18869.05 | D4: =5947.5908+C4 -> 24816.641 | E4: =5806.2722+D4 -> 30622.913 | F4: =4428.1592+E4 -> 35051.072 | G4: =6463.2186+F4 -> 41514.291 | H4: =4210.057+G4 -> 45724.348 | I4: =4956.843888+H4 -> 50681.192 | J4: =5305.3275286+I4 -> 55986.519 | K4: =1742.16+J4 -> 57728.679
B5: UE | C5: 5973.98 | D5: =4268.103+C5 -> 10242.083 | E5: =5785.992+D5 -> 16028.075 | F5: =8392.48600000001+E5 -> 24420.561 | G5: =12067.777272+F5 -> 36488.338 | H5: =4437.069+G5 -> 40925.407 | I5: =10895.329+H5 -> 51820.736 | J5: =7000.81700000001+I5 -> 58821.553 | K5: =5303.31900000001+J5 -> 64124.872
B6: RUSIA | C6: 15710.267 | D6: =2135.19+C6 -> 17845.457 | E6: =761.634+D6 -> 18607.091 | F6: =2165.154+E6 -> 20772.245 | G6: =2004.552+F6 -> 22776.797 | H6: =1327.518+G6 -> 24104.315 | I6: =1529.89919+H6 -> 25634.214 | J6: =830.319+I6 -> 26464.533 | K6: =576.054+J6 -> 27040.587
B7: OTROS DESTINOS | C7: 13970.4 | D7: =3668.4464+C7 -> 17638.846 | E7: =2050.7296+D7 -> 19689.576 | F7: =1940.2308+E7 -> 21629.807 | G7: =2892.4248+F7 -> 24522.232 | H7: =2118.064+G7 -> 26640.296 | I7: =1885.4688+H7 -> 28525.764 | J7: =1493+I7 -> 30018.764 | K7: =1015.3431+J7 -> 31034.107
B8: TOTAL | C8: =SUM(C4:C7) -> 54523.697 | D8: =SUM(D4:D7) -> 70543.027 | E8: =SUM(E4:E7) -> 84947.655 | F8: =SUM(F4:F7) -> 101873.68 | G8: =SUM(G4:G7) -> 125301.66 | H8: =SUM(H4:H7) -> 137394.37 | I8: =SUM(I4:I7) -> 156661.91 | J8: =SUM(J4:J7) -> 171291.37 | ... M8: =SUM(M4:M7) -> 0
B9: DIF TOTAL | D9: =+D8-C8 -> 16019.33 | E9: =+E8-D8 -> 14404.628 | F9: =+F8-E8 -> 16926.03 | G9: =+G8-F8 -> 23427.973 | H9: =+H8-G8 -> 12092.708 | I9: =+I8-H8 -> 19267.541 | J9: =+J8-I8 -> 14629.464
B10: DIF USA | D10: =+D4-C4 -> 5947.5908 | E10: =+E4-D4 -> 5806.2722 | F10: =+F4-E4 -> 4428.1592 | G10: =+G4-F4 -> 6463.2186 | H10: =+H4-G4 -> 4210.057 | I10: =+I4-H4 -> 4956.8439 | J10: =+J4-I4 -> 5305.3275
B11: DIF UE | D11: =+D5-C5 -> 4268.103 | E11: =+E5-D5 -> 5785.992 | F11: =+F5-E5 -> 8392.486 | G11: =+G5-F5 -> 12067.777 | H11: =+H5-G5 -> 4437.069 | I11: =+I5-H5 -> 10895.329 | J11: =+J5-I5 -> 7000.817
