Workbook

Sheet Expo Arg Citricos a sem 27
C5: Exportacion Argentina de Citricos a sem 27
C7: Cargado Real | G7: Total Cargado (TN)
B9: Meses de Carga | C9: Limon | D9: Pomelo | E9: Mandarina | F9: Naranja | G9: Total
B10: Enero | C10: 34.02 | D10: 0 | E10: 20.8 | F10: 3068.8 | G10: =SUM(C10:F10) -> 3123.62
B11: Febrero | C11: 20.004 | D11: 0 | E11: 8 | F11: 1865.56 | G11: =SUM(C11:F11) -> 1893.564
B12: Marzo | C12: 1737.15 | D12: 13.62 | E12: 301.16 | F12: 3029.48 | G12: =SUM(C12:F12) -> 5081.41
B13: Abril | C13: 13022.53 | D13: 0 | E13: 1613.27 | F13: 1406 | G13: =SUM(C13:F13) -> 16041.8
B14: Mayo | C14: 29170.76 | D14: 80.175 | E14: 7243.88 | F14: 2087.05 | G14: =SUM(C14:F14) -> 38581.865
B15: Junio | C15: 71674.82 | D15: 201.5 | E15: 11351.13 | F15: 5239.87 | G15: =SUM(C15:F15) -> 88467.32
B16: Julio 08/07 | C16: 17615.89 | D16: 42 | E16: 1794.88 | F16: 2949.41 | G16: =SUM(C16:F16) -> 22402.18
B17: Total Acum Sem 26 | C17: =SUM(C10:C16) -> 133275.17 | D17: =SUM(D10:D16) -> 337.295 | E17: =SUM(E10:E16) -> 22333.12 | F17: =SUM(F10:F16) -> 19646.17 | G17: =SUM(G10:G16) -> 175591.76
B18: % Sobre el total | C18: =C17/G17 -> 0.75900586 | D18: =D17/G17 -> 0.0019209045 | E18: =E17/G17 -> 0.12718775 | F18: =F17/G17 -> 0.11188549 | G18: =SUM(C18:F18) -> 1
B35: *Información del SENASA ( mercadería certificada)

Sheet Expo Limon Mercados acum sem 27
H2: Destino Exportac.Argentina Limones a: | I2: 27 | J2: 8 de Julio
H3: (en toneladas)
D5: Acumulado a semana 27 | H5: Variación % Año 2021 vs: | K5: Variación en TN Año 2021 vs:
B7: Destinos | C7: 2021 - Acum sem 26 | D7: 2021 - Acum sem 27 | E7: 2020 | F7: 2019 | G7: 2018 | H7: 2020 | I7: 2019 | J7: 2018 | K7: 2020 | L7: 2019 | M7: 2018
B8: Grecia y Balcanes | C8: 10903.41 | D8: 12397.09 | E8: 26072.12 | F8: 22561.34 | G8: 17530.626 | H8: =+D8/E8-1 -> -0.52450779 | I8: =D8/F8-1 -> -0.45051624 | J8: =D8/G8-1 -> -0.29283244 | K8: =D8-E8 -> -13675.03 | L8: =D8-F8 -> -10164.25 | M8: =D8-G8 -> -5133.536
B9: Iberica | C9: 2539.33 | D9: 3311.064 | E9: 30702.675 | F9: 9419.105 | G9: 37038.5 | H9: =+D9/E9-1 -> -0.89215715 | I9: =D9/F9-1 -> -0.64847361 | J9: =D9/G9-1 -> -0.9106048 | K9: =D9-E9 -> -27391.611 | L9: =D9-F9 -> -6108.041 | M9: =D9-G9 -> -33727.436
B10: Italia | C10: 5740.614 | D10: 7394.19 | E10: 19138.5 | F10: 13621.613 | G10: 18130.5 | H10: =+D10/E10-1 -> -0.61364841 | I10: =D10/F10-1 -> -0.45717222 | J10: =D10/G10-1 -> -0.59216845 | K10: =D10-E10 -> -11744.31 | L10: =D10-F10 -> -6227.423 | M10: =D10-G10 -> -10736.31
B11: Norte Europa | C11: 11941.56 | D11: 16439.75 | E11: 39751.69 | F11: 22751.139 | G11: 29137.47 | H11: =+D11/E11-1 -> -0.58643897 | I11: =D11/F11-1 -> -0.27740979 | J11: =D11/G11-1 -> -0.43578663 | K11: =D11-E11 -> -23311.94 | L11: =D11-F11 -> -6311.3885 | M11: =D11-G11 -> -12697.72
B12: Sub Total UE | C12: =SUM(C8:C11) -> 31124.914 | D12: =SUM(D8:D11) -> 39542.094 | E12: =SUM(E8:E11) -> 115664.99 | F12: =SUM(F8:F11) -> 68353.196 | G12: =SUM(G8:G11) -> 101837.1 | H12: =+D12/E12-1 -> -0.65813255 | I12: =D12/F12-1 -> -0.42150337 | J12: =D12/G12-1 -> -0.61171228 | K12: =D12-E12 -> -76122.891 | L12: =D12-F12 -> -28811.102 | M12: =D12-G12 -> -62295.002
B13: Rusia | C13: 21887.02 | D13: 23779.15 | E13: 39502.19 | F13: 33099.173 | G13: 24312.94 | H13: =+D13/E13-1 -> -0.39802958 | I13: =D13/F13-1 -> -0.28157872 | J13: =D13/G13-1 -> -0.021954975 | K13: =D13-E13 -> -15723.04 | L13: =D13-F13 -> -9320.0228 | M13: =D13-G13 -> -533.79
B14: Odessa-Ucrania | C14: 5352.11 | D14: 5678.86 | E14: 7295.78 | F14: 8083 | G14: 8411.63 | H14: =+D14/E14-1 -> -0.22162401 | I14: =D14/F14-1 -> -0.29743165 | J14: =D14/G14-1 -> -0.32487996 | K14: =D14-E14 -> -1616.92 | L14: =D14-F14 -> -2404.14 | M14: =D14-G14 -> -2732.77
B15: Reino Unido | C15: 3409.68 | D15: 3642.44 | E15: 3696.43 | F15: 2479.53 | G15: 3838.8 | H15: =+D15/E15-1 -> -0.014605985 | I15: =D15/F15-1 -> 0.46900421 | J15: =D15/G15-1 -> -0.051151401 | K15: =D15-E15 -> -53.99 | L15: =D15-F15 -> 1162.91 | M15: =D15-G15 -> -196.36
B16: USA | C16: 39338.93 | D16: 43856.49 | E16: 21435.43 | F16: 18442.79 | G16: 4494.36 | H16: =+D16/E16-1 -> 1.0459813 | I16: =D16/F16-1 -> 1.3779748 | J16: =D16/G16-1 -> 8.7581168 | K16: =D16-E16 -> 22421.06 | L16: =D16-F16 -> 25413.7 | M16: =D16-G16 -> 39362.13
B17: Otros Destinos | C17: 15137.79 | D17: 16776.14 | E17: 14819.33 | F17: 15015.37 | G17: 15163.76 | H17: =+D17/E17-1 -> 0.13204443 | I17: =D17/F17-1 -> 0.11726451 | J17: =D17/G17-1 -> 0.10633115 | K17: =D17-E17 -> 1956.81 | L17: =D17-F17 -> 1760.77 | M17: =D17-G17 -> 1612.38
B18: Sub Total | C18: =SUM(C13:C17) -> 85125.53 | D18: =SUM(D13:D17) -> 93733.08 | E18: =SUM(E13:E17) -> 86749.16 | F18: =SUM(F13:F17) -> 77119.863 | G18: =SUM(G13:G17) -> 56221.49 | H18: =+D18/E18-1 -> 0.080507062 | I18: =D18/F18-1 -> 0.21542073 | J18: =D18/G18-1 -> 0.66721088 | K18: =D18-E18 -> 6983.92 | L18: =D18-F18 -> 16613.217 | M18: =D18-G18 -> 37511.59
B19: Total Expo Limon (w 27) | C19: =C12+C18 -> 116250.44 | D19: =D12+D18 -> 133275.17 | E19: =E12+E18 -> 202414.15 | F19: =F12+F18 -> 145473.06 | G19: =G12+G18 -> 158058.59 | H19: =+D19/E19-1 -> -0.34157184 | I19: =D19/F19-1 -> -0.083849789 | J19: =D19/G19-1 -> -0.1567989 | K19: =D19-E19 -> -69138.971 | L19: =D19-F19 -> -12197.885 | M19: =D19-G19 -> -24783.412
B20: Total Exportado Anual | E20: 248044.08 | F20: 233879.3 | G20: 271615.81
A21: Aclaraciones:
A22: Otros Destinos: incluye Canada, Middle East, Far East, America Sur

Sheet Cargas RSA y ARG
B6: Total Cargado Limones Argentina sem 27
B8: Cargas Argentina Acumulado sem 27 | C8: Destinos | D8: Tn
C9: Grecia y Balcanes | D9: ='Expo Limon Mercados acum sem 27'!D8 -> 12397.09
C10: Iberica | D10: ='Expo Limon Mercados acum sem 27'!D9 -> 3311.064 | G10: Total Cargado Limones Sudafrica sem 26
C11: Italia | D11: ='Expo Limon Mercados acum sem 27'!D10 -> 7394.19
C12: Norte Europa | D12: ='Expo Limon Mercados acum sem 27'!D11 -> 16439.75 | H12: Semana 26 | J12: Semana 25
C13: Sub Total UE | D13: ='Expo Limon Mercados acum sem 27'!D12 -> 39542.094 | G13: Destinos | H13: Tn | I13: Cajas 15 kilos | J13: Tn | K13: Cajas 15 kilos
C14: Reino Unido | D14: ='Expo Limon Mercados acum sem 27'!D15 -> 3642.44 | F14: Cargas de RSA Acumulado Sem 26 | G14: Reino unido | H14: =(I14*15)/1000 -> 17272.095 | I14: 1151473 | J14: =(K14*15)/1000 -> 15608.505 | K14: 1040567
C15: Rusia | D15: ='Expo Limon Mercados acum sem 27'!D13 -> 23779.15 | G15: Rusia | H15: =(I15*15)/1000 -> 30530.295 | I15: 2035353 | J15: =(K15*15)/1000 -> 29243.325 | K15: 1949555
C16: Odessa-Ucrania | D16: ='Expo Limon Mercados acum sem 27'!D14 -> 5678.86 | G16: Union Europea | H16: =(I16*15)/1000 -> 73449.435 | I16: 4896629 | J16: =(K16*15)/1000 -> 64952.445 | K16: 4330163
C17: USA | D17: ='Expo Limon Mercados acum sem 27'!D16 -> 43856.49 | G17: Canadá | H17: =(I17*15)/1000 -> 13105.32 | I17: 873688 | J17: =(K17*15)/1000 -> 12456.855 | K17: 830457
C18: Canadá | D18: 6152.2624 | G18: Otros Destinos | H18: =(I18*15)/1000 -> 115139.04 | I18: =160978+108061+6041328+1365569 -> 7675936 | J18: =(K18*15)/1000 -> 110591.04 | K18: 7372736
C19: Otros Destinos | D19: ='Expo Limon Mercados acum sem 27'!D17-D18 -> 10623.878 | G19: Total | H19: =SUM(H14:H18) -> 249496.18 | I19: =SUM(I14:I18) -> 16633079 | J19: =SUM(J14:J18) -> 232852.17 | K19: =SUM(K14:K18) -> 15523478
C20: Sub Total | D20: =SUM(D14:D19) -> 93733.08
C21: Total | D21: =+D13+D20 -> 133275.17
B23: Aclaraciones: | F23: Aclaraciones:
B24: Otros Destinos: incluye Middle East, Far East, America Sur | F24: Otros Destinos RSA incluye: South East Asia, Middle East, Africa and Islands, Asia

Sheet Comparativo expo RSA y ARG
B2: Exportaciones de ARGENTINA Y RSA a ----- U.E - UK - RUSIA - USA - Otros… W 27
E4: % Arg vs RSA | F4: TN Arg vs RSA
B5: Reino Unido | C5: Argentina | D5: ='Cargas RSA y ARG'!D14 -> 3642.44 | E5: =D5/D6-1 -> -0.78911418 | F5: =D5-D6 -> -13629.655
C6: RSA | D6: ='Cargas RSA y ARG'!H14 -> 17272.095
B7: Union Europea | C7: Argentina | D7: ='Cargas RSA y ARG'!D13 -> 39542.094 | E7: =D7/D8-1 -> -0.46164196 | F7: =D7-D8 -> -33907.341
C8: RSA | D8: ='Cargas RSA y ARG'!H16 -> 73449.435
B9: Rusia | C9: Argentina | D9: ='Cargas RSA y ARG'!D15 -> 23779.15 | E9: =D9/D10-1 -> -0.22112937 | F9: =D9-D10 -> -6751.145
C10: RSA | D10: ='Cargas RSA y ARG'!H15 -> 30530.295
B11: Canadá | C11: Argentina | D11: ='Cargas RSA y ARG'!D18 -> 6152.2624 | E11: =D11/D12-1 -> -0.53055229 | F11: =D11-D12 -> -6953.0576
C12: RSA | D12: ='Cargas RSA y ARG'!H17 -> 13105.32
B13: Otros | C13: Argentina | D13: ='Cargas RSA y ARG'!D19 -> 10623.878 | E13: =D13/D14-1 -> -0.90773001 | F13: =D13-D14 -> -104515.16
C14: RSA | D14: ='Cargas RSA y ARG'!H18 -> 115139.04
A16: Aclaraciones:
A17: Otros Destinos Argentina: incluye Middle East, Far East, America Sur
